BEGIN:VCALENDAR
VERSION:2.0
PRODID:-//kyohatsu//JP
CALSCALE:GREGORIAN
BEGIN:VEVENT
DTSTART;VALUE=DATE:20260624
SUMMARY:ホルモー燦燦
DESCRIPTION:万城目　学 KADOKAWA
UID:9784041165362@kyohatsu.lb-product.com
END:VEVENT
END:VCALENDAR
