BEGIN:VCALENDAR
VERSION:2.0
PRODID:-//kyohatsu//JP
CALSCALE:GREGORIAN
BEGIN:VEVENT
DTSTART;VALUE=DATE:20260623
SUMMARY:リンダ・ザ・シェアハウス（3）
DESCRIPTION:七海 リキ 講談社
UID:9784065436691@kyohatsu.lb-product.com
END:VEVENT
END:VCALENDAR
