BEGIN:VCALENDAR
VERSION:2.0
PRODID:-//kyohatsu//JP
CALSCALE:GREGORIAN
BEGIN:VEVENT
DTSTART;VALUE=DATE:20260624
SUMMARY:雨色のキャンバス
DESCRIPTION:七海 まち 小学館
UID:9784092893474@kyohatsu.lb-product.com
END:VEVENT
END:VCALENDAR
