BEGIN:VCALENDAR
VERSION:2.0
PRODID:-//kyohatsu//JP
CALSCALE:GREGORIAN
BEGIN:VEVENT
DTSTART;VALUE=DATE:20260729
SUMMARY:【楽天ブックス限定先着特典】YURUYURI Remix Album ゆるゆりみっくす♪♪(アクリルキーホルダー（50mm予定）)
DESCRIPTION:七森中☆ごらく部 (株)ポニーキャニオン
UID:4524135316578@kyohatsu.lb-product.com
END:VEVENT
END:VCALENDAR
