BEGIN:VCALENDAR
VERSION:2.0
PRODID:-//kyohatsu//JP
CALSCALE:GREGORIAN
BEGIN:VEVENT
DTSTART;VALUE=DATE:20260510
SUMMARY:追放幼女の領地開拓記3〜シナリオ開始前に追放された悪役令嬢が民のためにやりたい放題した結果がこちらです〜
DESCRIPTION:一色孝太郎 TOブックス
UID:9784867949962@kyohatsu.lb-product.com
END:VEVENT
END:VCALENDAR
