BEGIN:VCALENDAR
VERSION:2.0
PRODID:-//kyohatsu//JP
CALSCALE:GREGORIAN
BEGIN:VEVENT
DTSTART;VALUE=DATE:20260623
SUMMARY:もうひとつのピアノの森　整う音（3）
DESCRIPTION:一色 まこと 講談社
UID:9784065437025@kyohatsu.lb-product.com
END:VEVENT
END:VCALENDAR
