BEGIN:VCALENDAR
VERSION:2.0
PRODID:-//kyohatsu//JP
CALSCALE:GREGORIAN
BEGIN:VEVENT
DTSTART;VALUE=DATE:20260520
SUMMARY:モナリザの裏側
DESCRIPTION:一色 さゆり 新潮社
UID:9784103568612@kyohatsu.lb-product.com
END:VEVENT
END:VCALENDAR
