BEGIN:VCALENDAR
VERSION:2.0
PRODID:-//kyohatsu//JP
CALSCALE:GREGORIAN
BEGIN:VEVENT
DTSTART;VALUE=DATE:20260610
SUMMARY:蒼焔の魔女3
DESCRIPTION:一二三 TOブックス
UID:9784868540229@kyohatsu.lb-product.com
END:VEVENT
END:VCALENDAR
