BEGIN:VCALENDAR
VERSION:2.0
PRODID:-//kyohatsu//JP
CALSCALE:GREGORIAN
BEGIN:VEVENT
DTSTART;VALUE=DATE:20260605
SUMMARY:シンフォニーク
DESCRIPTION:ヴォイヴォド (株)ソニー・ミュージックレーベルズ
UID:4547366814071@kyohatsu.lb-product.com
END:VEVENT
END:VCALENDAR
