BEGIN:VCALENDAR
VERSION:2.0
PRODID:-//kyohatsu//JP
CALSCALE:GREGORIAN
BEGIN:VEVENT
DTSTART;VALUE=DATE:20260527
SUMMARY:イフ・ザ・ジャスミン・ドント・ゲット・ユー
DESCRIPTION:ヴィンス・マーティン ヴィヴィド・サウンド
UID:4540399326382@kyohatsu.lb-product.com
END:VEVENT
END:VCALENDAR
