BEGIN:VCALENDAR
VERSION:2.0
PRODID:-//kyohatsu//JP
CALSCALE:GREGORIAN
BEGIN:VEVENT
DTSTART;VALUE=DATE:20260529
SUMMARY:飛んでけ聖剣 3
DESCRIPTION:ヴィコ Cygames
UID:9784911567715@kyohatsu.lb-product.com
END:VEVENT
END:VCALENDAR
