BEGIN:VCALENDAR
VERSION:2.0
PRODID:-//kyohatsu//JP
CALSCALE:GREGORIAN
BEGIN:VEVENT
DTSTART;VALUE=DATE:20260603
SUMMARY:セルフ推し活BOOK - 自分＝推しとして過ごすアイデア36 -
DESCRIPTION:ワダ シノブ ワニブックス
UID:9784847076619@kyohatsu.lb-product.com
END:VEVENT
END:VCALENDAR
