BEGIN:VCALENDAR
VERSION:2.0
PRODID:-//kyohatsu//JP
CALSCALE:GREGORIAN
BEGIN:VEVENT
DTSTART;VALUE=DATE:20260815
SUMMARY:【輸入盤】ワイルド（メンバー・ヴァージョン）
DESCRIPTION:ワイルド（メンバー・ヴァージョン） 
UID:8800370675349@kyohatsu.lb-product.com
END:VEVENT
END:VCALENDAR
