BEGIN:VCALENDAR
VERSION:2.0
PRODID:-//kyohatsu//JP
CALSCALE:GREGORIAN
BEGIN:VEVENT
DTSTART;VALUE=DATE:20260815
SUMMARY:【輸入盤】ワイルド
DESCRIPTION:ワイルド 
UID:8800370675042@kyohatsu.lb-product.com
END:VEVENT
END:VCALENDAR
