BEGIN:VCALENDAR
VERSION:2.0
PRODID:-//kyohatsu//JP
CALSCALE:GREGORIAN
BEGIN:VEVENT
DTSTART;VALUE=DATE:20260610
SUMMARY:スウィング・ミー・ノー・ワルツィズ
DESCRIPTION:ローランド・ハナ SOLID、STORYVILLE
UID:4526180759584@kyohatsu.lb-product.com
END:VEVENT
END:VCALENDAR
