BEGIN:VCALENDAR
VERSION:2.0
PRODID:-//kyohatsu//JP
CALSCALE:GREGORIAN
BEGIN:VEVENT
DTSTART;VALUE=DATE:20260805
SUMMARY:センチメンタル・バリュー【Blu-ray】
DESCRIPTION:レナーテ・レインスヴェ ギャガ(株)
UID:4589921418843@kyohatsu.lb-product.com
END:VEVENT
BEGIN:VEVENT
DTSTART;VALUE=DATE:20260805
SUMMARY:センチメンタル・バリュー
DESCRIPTION:レナーテ・レインスヴェ ギャガ(株)
UID:4589921418850@kyohatsu.lb-product.com
END:VEVENT
END:VCALENDAR
