BEGIN:VCALENDAR
VERSION:2.0
PRODID:-//kyohatsu//JP
CALSCALE:GREGORIAN
BEGIN:VEVENT
DTSTART;VALUE=DATE:20260610
SUMMARY:ザ・レッド・バロン・デュオ
DESCRIPTION:レッド・ミッチェル〜ケニー・バロン SOLID、STORYVILLE
UID:4526180759577@kyohatsu.lb-product.com
END:VEVENT
END:VCALENDAR
