BEGIN:VCALENDAR
VERSION:2.0
PRODID:-//kyohatsu//JP
CALSCALE:GREGORIAN
BEGIN:VEVENT
DTSTART;VALUE=DATE:20260527
SUMMARY:ア・マター・オブ・タイム:ザ・ファイナル・アワー
DESCRIPTION:レイヴェイ (株)ソニー・ミュージックレーベルズ
UID:4547366814354@kyohatsu.lb-product.com
END:VEVENT
END:VCALENDAR
