BEGIN:VCALENDAR
VERSION:2.0
PRODID:-//kyohatsu//JP
CALSCALE:GREGORIAN
BEGIN:VEVENT
DTSTART;VALUE=DATE:20260603
SUMMARY:アイ・ウィル・サヴァイヴ
DESCRIPTION:リトル・ミルトン SOLID RECORDS、MALACO RECORDS
UID:4526180759638@kyohatsu.lb-product.com
END:VEVENT
BEGIN:VEVENT
DTSTART;VALUE=DATE:20260603
SUMMARY:バック・トゥ・バック
DESCRIPTION:リトル・ミルトン SOLID RECORDS、MALACO RECORDS
UID:4526180759645@kyohatsu.lb-product.com
END:VEVENT
END:VCALENDAR
