BEGIN:VCALENDAR
VERSION:2.0
PRODID:-//kyohatsu//JP
CALSCALE:GREGORIAN
BEGIN:VEVENT
DTSTART;VALUE=DATE:20260612
SUMMARY:アイム・ノット・アン・アーキビストーザ・レジェンダリー・ロスト・レコーディングス
DESCRIPTION:ラリー・ウォリス CLEOPATRA
UID:4526180758907@kyohatsu.lb-product.com
END:VEVENT
END:VCALENDAR
