BEGIN:VCALENDAR
VERSION:2.0
PRODID:-//kyohatsu//JP
CALSCALE:GREGORIAN
BEGIN:VEVENT
DTSTART;VALUE=DATE:20260617
SUMMARY:星降る庭、愛の音
DESCRIPTION:ラムズデール昌栄 平凡社
UID:9784582840056@kyohatsu.lb-product.com
END:VEVENT
END:VCALENDAR
