BEGIN:VCALENDAR
VERSION:2.0
PRODID:-//kyohatsu//JP
CALSCALE:GREGORIAN
BEGIN:VEVENT
DTSTART;VALUE=DATE:20260528
SUMMARY:黙ってはいられません
DESCRIPTION:ラトナ・サリ・デヴィ・スカルノ きずな出版
UID:9784866633312@kyohatsu.lb-product.com
END:VEVENT
END:VCALENDAR
