BEGIN:VCALENDAR
VERSION:2.0
PRODID:-//kyohatsu//JP
CALSCALE:GREGORIAN
BEGIN:VEVENT
DTSTART;VALUE=DATE:20260717
SUMMARY:シーズン・オブ・グラス(45周年記念盤)
DESCRIPTION:ヨーコ・オノ (株)ソニー・ミュージックレーベルズ
UID:4547366814774@kyohatsu.lb-product.com
END:VEVENT
END:VCALENDAR
