BEGIN:VCALENDAR
VERSION:2.0
PRODID:-//kyohatsu//JP
CALSCALE:GREGORIAN
BEGIN:VEVENT
DTSTART;VALUE=DATE:20260527
SUMMARY:Pandora's Egg
DESCRIPTION:ヨシガキルイ Hyoutan Records
UID:4988044834644@kyohatsu.lb-product.com
END:VEVENT
END:VCALENDAR
