BEGIN:VCALENDAR
VERSION:2.0
PRODID:-//kyohatsu//JP
CALSCALE:GREGORIAN
BEGIN:VEVENT
DTSTART;VALUE=DATE:20260605
SUMMARY:エイント・ミスビヘイヴィン
DESCRIPTION:ユー・エフ・オー CLEOPATRA
UID:4526180758921@kyohatsu.lb-product.com
END:VEVENT
END:VCALENDAR
