BEGIN:VCALENDAR
VERSION:2.0
PRODID:-//kyohatsu//JP
CALSCALE:GREGORIAN
BEGIN:VEVENT
DTSTART;VALUE=DATE:20260525
SUMMARY:ハイ・アンド・マイティ
DESCRIPTION:ユーライア・ヒープ BELLE ANTIQUE
UID:4527516608576@kyohatsu.lb-product.com
END:VEVENT
BEGIN:VEVENT
DTSTART;VALUE=DATE:20260525
SUMMARY:幻想への回帰
DESCRIPTION:ユーライア・ヒープ BELLE ANTIQUE
UID:4527516608569@kyohatsu.lb-product.com
END:VEVENT
BEGIN:VEVENT
DTSTART;VALUE=DATE:20260525
SUMMARY:罪なきいけにえ
DESCRIPTION:ユーライア・ヒープ BELLE ANTIQUE
UID:4527516608590@kyohatsu.lb-product.com
END:VEVENT
BEGIN:VEVENT
DTSTART;VALUE=DATE:20260525
SUMMARY:ファイアフライ
DESCRIPTION:ユーライア・ヒープ BELLE ANTIQUE
UID:4527516608583@kyohatsu.lb-product.com
END:VEVENT
BEGIN:VEVENT
DTSTART;VALUE=DATE:20260525
SUMMARY:堕ちた天使
DESCRIPTION:ユーライア・ヒープ BELLE ANTIQUE
UID:4527516608606@kyohatsu.lb-product.com
END:VEVENT
END:VCALENDAR
