BEGIN:VCALENDAR
VERSION:2.0
PRODID:-//kyohatsu//JP
CALSCALE:GREGORIAN
BEGIN:VEVENT
DTSTART;VALUE=DATE:20260729
SUMMARY:【先着特典】Magical Tank-top Parade (初回限定盤 CD＋Blu-ray)(ぷくぷくシール)
DESCRIPTION:ヤバイTシャツ屋さん 
UID:2100014960845@kyohatsu.lb-product.com
END:VEVENT
BEGIN:VEVENT
DTSTART;VALUE=DATE:20260729
SUMMARY:【先着特典】Magical Tank-top Parade (通常盤)(ぷくぷくシール)
DESCRIPTION:ヤバイTシャツ屋さん ユニバーサルミュージック
UID:4988031883860@kyohatsu.lb-product.com
END:VEVENT
BEGIN:VEVENT
DTSTART;VALUE=DATE:20260729
SUMMARY:Magical Tank-top Parade (初回限定盤 CD＋Blu-ray)
DESCRIPTION:ヤバイTシャツ屋さん ユニバーサルミュージック
UID:4988031883853@kyohatsu.lb-product.com
END:VEVENT
BEGIN:VEVENT
DTSTART;VALUE=DATE:20260729
SUMMARY:【先着特典】Magical Tank-top Parade (完全生産限定盤 CD＋Blu-ray＋T シャツ)(ぷくぷくシール)
DESCRIPTION:ヤバイTシャツ屋さん 
UID:2100014960838@kyohatsu.lb-product.com
END:VEVENT
BEGIN:VEVENT
DTSTART;VALUE=DATE:20260729
SUMMARY:Magical Tank-top Parade (完全生産限定盤 CD＋Blu-ray＋T シャツ)
DESCRIPTION:ヤバイTシャツ屋さん ユニバーサルミュージック
UID:4988031883846@kyohatsu.lb-product.com
END:VEVENT
END:VCALENDAR
