BEGIN:VCALENDAR
VERSION:2.0
PRODID:-//kyohatsu//JP
CALSCALE:GREGORIAN
BEGIN:VEVENT
DTSTART;VALUE=DATE:20260624
SUMMARY:ザ・エーズ、ザ・ビーズ・アンド・ザ・モンキーズ
DESCRIPTION:モンキーズ (株)ワーナーミュージック・ジャパン
UID:4943674453214@kyohatsu.lb-product.com
END:VEVENT
END:VCALENDAR
