BEGIN:VCALENDAR
VERSION:2.0
PRODID:-//kyohatsu//JP
CALSCALE:GREGORIAN
BEGIN:VEVENT
DTSTART;VALUE=DATE:20261223
SUMMARY:【楽天ブックス限定先着特典】THE IDOLM@STER MILLION LIVE! 12thLIVE DAY1 ありのままに。 LIVE Blu-ray【Blu-ray】(2L判ブロマイド（6種セット）)
DESCRIPTION:ミリオンライブ! (株)バンダイナムコエンターテインメント
UID:2100014673387@kyohatsu.lb-product.com
END:VEVENT
BEGIN:VEVENT
DTSTART;VALUE=DATE:20261223
SUMMARY:【楽天ブックス限定先着特典】THE IDOLM@STER MILLION LIVE! 12thLIVE DAY2 Let’s Sing! LIVE Blu-ray【Blu-ray】(2L判ブロマイド（6種セット）)
DESCRIPTION:ミリオンライブ! 
UID:2100014673394@kyohatsu.lb-product.com
END:VEVENT
BEGIN:VEVENT
DTSTART;VALUE=DATE:20261223
SUMMARY:THE IDOLM@STER MILLION LIVE! 12thLIVE DAY2 Let’s Sing! LIVE Blu-ray【Blu-ray】
DESCRIPTION:ミリオンライブ! (株)バンダイナムコエンターテインメント
UID:4540774809387@kyohatsu.lb-product.com
END:VEVENT
BEGIN:VEVENT
DTSTART;VALUE=DATE:20261223
SUMMARY:THE IDOLM@STER MILLION LIVE! 12thLIVE DAY1 ありのままに。 LIVE Blu-ray【Blu-ray】
DESCRIPTION:ミリオンライブ! (株)バンダイナムコエンターテインメント
UID:4540774809370@kyohatsu.lb-product.com
END:VEVENT
END:VCALENDAR
