BEGIN:VCALENDAR
VERSION:2.0
PRODID:-//kyohatsu//JP
CALSCALE:GREGORIAN
BEGIN:VEVENT
DTSTART;VALUE=DATE:20260610
SUMMARY:ミュージカル『刀剣乱舞』 目出度歌誉花舞 十周年祝賀祭
DESCRIPTION:ミュージカル『刀剣乱舞』 PRIME CAST
UID:4571603151681@kyohatsu.lb-product.com
END:VEVENT
BEGIN:VEVENT
DTSTART;VALUE=DATE:20260610
SUMMARY:ミュージカル『刀剣乱舞』 目出度歌誉花舞 十周年祝賀祭 DAY2【Blu-ray】
DESCRIPTION:ミュージカル『刀剣乱舞』 PRIME CAST
UID:4571603151674@kyohatsu.lb-product.com
END:VEVENT
BEGIN:VEVENT
DTSTART;VALUE=DATE:20260610
SUMMARY:ミュージカル『刀剣乱舞』 目出度歌誉花舞 十周年祝賀祭 DAY2
DESCRIPTION:ミュージカル『刀剣乱舞』 PRIME CAST
UID:4571603151704@kyohatsu.lb-product.com
END:VEVENT
BEGIN:VEVENT
DTSTART;VALUE=DATE:20260610
SUMMARY:ミュージカル『刀剣乱舞』 目出度歌誉花舞 十周年祝賀祭 DAY1
DESCRIPTION:ミュージカル『刀剣乱舞』 PRIME CAST
UID:4571603151698@kyohatsu.lb-product.com
END:VEVENT
BEGIN:VEVENT
DTSTART;VALUE=DATE:20260610
SUMMARY:ミュージカル『刀剣乱舞』 目出度歌誉花舞 十周年祝賀祭 DAY1【Blu-ray】
DESCRIPTION:ミュージカル『刀剣乱舞』 PRIME CAST
UID:4571603151667@kyohatsu.lb-product.com
END:VEVENT
BEGIN:VEVENT
DTSTART;VALUE=DATE:20260610
SUMMARY:ミュージカル『刀剣乱舞』 目出度歌誉花舞 十周年祝賀祭【Blu-ray】
DESCRIPTION:ミュージカル『刀剣乱舞』 PRIME CAST
UID:4571603151650@kyohatsu.lb-product.com
END:VEVENT
END:VCALENDAR
