BEGIN:VCALENDAR
VERSION:2.0
PRODID:-//kyohatsu//JP
CALSCALE:GREGORIAN
BEGIN:VEVENT
DTSTART;VALUE=DATE:20260610
SUMMARY:スパダリ王子様の狂い愛（1）
DESCRIPTION:ミナミ 小学館
UID:9784098734580@kyohatsu.lb-product.com
END:VEVENT
END:VCALENDAR
