BEGIN:VCALENDAR
VERSION:2.0
PRODID:-//kyohatsu//JP
CALSCALE:GREGORIAN
BEGIN:VEVENT
DTSTART;VALUE=DATE:20260501
SUMMARY:没落伯爵令嬢は家族を養いたい　短編集
DESCRIPTION:ミコタにう TOブックス
UID:9784867949887@kyohatsu.lb-product.com
END:VEVENT
END:VCALENDAR
