BEGIN:VCALENDAR
VERSION:2.0
PRODID:-//kyohatsu//JP
CALSCALE:GREGORIAN
BEGIN:VEVENT
DTSTART;VALUE=DATE:20260701
SUMMARY:【楽天ブックス限定先着特典】「マユリカの東京友錠生活／無人島友錠生活」DVD-BOX完全版（仮）(オリジナルA4クリアファイル)
DESCRIPTION:マユリカ (株)よしもとミュージック
UID:2100014946115@kyohatsu.lb-product.com
END:VEVENT
BEGIN:VEVENT
DTSTART;VALUE=DATE:20260701
SUMMARY:「マユリカの東京友錠生活／無人島友錠生活」DVD-BOX完全版（仮）
DESCRIPTION:マユリカ (株)よしもとミュージック
UID:4571487598183@kyohatsu.lb-product.com
END:VEVENT
END:VCALENDAR
