BEGIN:VCALENDAR
VERSION:2.0
PRODID:-//kyohatsu//JP
CALSCALE:GREGORIAN
BEGIN:VEVENT
DTSTART;VALUE=DATE:20260610
SUMMARY:40までにしたい10のこと3
DESCRIPTION:マミタ リブレ
UID:9784799778241@kyohatsu.lb-product.com
END:VEVENT
END:VCALENDAR
