BEGIN:VCALENDAR
VERSION:2.0
PRODID:-//kyohatsu//JP
CALSCALE:GREGORIAN
BEGIN:VEVENT
DTSTART;VALUE=DATE:20260609
SUMMARY:地元のいじめっ子達に仕返ししようとしたら、別の戦いが始まった。（9）
DESCRIPTION:マツモト ケンゴ 講談社
UID:9784065437469@kyohatsu.lb-product.com
END:VEVENT
END:VCALENDAR
