BEGIN:VCALENDAR
VERSION:2.0
PRODID:-//kyohatsu//JP
CALSCALE:GREGORIAN
BEGIN:VEVENT
DTSTART;VALUE=DATE:20260826
SUMMARY:「ポケモン feat. 初音ミク VOLTAGE Live！」Blu-ray特装盤【Blu-ray】
DESCRIPTION:ポケモン feat.初音ミク (株)フライングドッグ
UID:4582757039268@kyohatsu.lb-product.com
END:VEVENT
BEGIN:VEVENT
DTSTART;VALUE=DATE:20260826
SUMMARY:【先着特典】「ポケモン feat. 初音ミク VOLTAGE Live！」Blu-ray特装盤【Blu-ray】(レプリカチケット（箔押し仕様）)
DESCRIPTION:ポケモン feat.初音ミク (株)フライングドッグ
UID:2100014901749@kyohatsu.lb-product.com
END:VEVENT
END:VCALENDAR
