BEGIN:VCALENDAR
VERSION:2.0
PRODID:-//kyohatsu//JP
CALSCALE:GREGORIAN
BEGIN:VEVENT
DTSTART;VALUE=DATE:20260527
SUMMARY:シルク・ディグリーズ (2023年リマスター)
DESCRIPTION:ボズ・スキャッグス (株)ソニー・ミュージックレーベルズ
UID:4547366808889@kyohatsu.lb-product.com
END:VEVENT
BEGIN:VEVENT
DTSTART;VALUE=DATE:20260527
SUMMARY:ミドル・マン (2023年リマスター)
DESCRIPTION:ボズ・スキャッグス (株)ソニー・ミュージックレーベルズ
UID:4547366808896@kyohatsu.lb-product.com
END:VEVENT
END:VCALENDAR
