BEGIN:VCALENDAR
VERSION:2.0
PRODID:-//kyohatsu//JP
CALSCALE:GREGORIAN
BEGIN:VEVENT
DTSTART;VALUE=DATE:20260624
SUMMARY:ホンネ - 10
DESCRIPTION:ホンネ (株)ワーナーミュージック・ジャパン
UID:4943674443048@kyohatsu.lb-product.com
END:VEVENT
END:VCALENDAR
