BEGIN:VCALENDAR
VERSION:2.0
PRODID:-//kyohatsu//JP
CALSCALE:GREGORIAN
BEGIN:VEVENT
DTSTART;VALUE=DATE:20260617
SUMMARY:ザ・コンプリート・ヴァージン・イヤーズ
DESCRIPTION:ペイル・ファウンテンズ SOLID、CHERRY RED
UID:4526180759942@kyohatsu.lb-product.com
END:VEVENT
END:VCALENDAR
