BEGIN:VCALENDAR
VERSION:2.0
PRODID:-//kyohatsu//JP
CALSCALE:GREGORIAN
BEGIN:VEVENT
DTSTART;VALUE=DATE:20260529
SUMMARY:マキナにおまかせ（1巻）
DESCRIPTION:ベン・グッドマン リイド社
UID:9784845871360@kyohatsu.lb-product.com
END:VEVENT
END:VCALENDAR
