BEGIN:VCALENDAR
VERSION:2.0
PRODID:-//kyohatsu//JP
CALSCALE:GREGORIAN
BEGIN:VEVENT
DTSTART;VALUE=DATE:20260715
SUMMARY:チャイコフスキー：交響曲第6番「悲愴」（SACDハイブリッド）（ルミエール・シリーズ）
DESCRIPTION:ヘルベルト・フォン・カラヤン (株)ワーナーミュージック・ジャパン
UID:4943674453078@kyohatsu.lb-product.com
END:VEVENT
END:VCALENDAR
