BEGIN:VCALENDAR
VERSION:2.0
PRODID:-//kyohatsu//JP
CALSCALE:GREGORIAN
BEGIN:VEVENT
DTSTART;VALUE=DATE:20260722
SUMMARY:プロジェクトセカイ COLORFUL LIVE 5th - Frontier -(初回限定盤)【Blu-ray】
DESCRIPTION:プロジェクトセカイ 日本コロムビア(株)
UID:4549767363233@kyohatsu.lb-product.com
END:VEVENT
BEGIN:VEVENT
DTSTART;VALUE=DATE:20260722
SUMMARY:プロジェクトセカイ COLORFUL LIVE 5th - Frontier -(通常盤)【Blu-ray】
DESCRIPTION:プロジェクトセカイ 日本コロムビア(株)
UID:4549767363226@kyohatsu.lb-product.com
END:VEVENT
BEGIN:VEVENT
DTSTART;VALUE=DATE:20260722
SUMMARY:【楽天ブックス限定先着特典】プロジェクトセカイ COLORFUL LIVE 5th - Frontier -(初回限定盤)【Blu-ray】(ラバーキーホルダー＆ラゲッジタグ)
DESCRIPTION:プロジェクトセカイ 日本コロムビア(株)
UID:2100014759142@kyohatsu.lb-product.com
END:VEVENT
BEGIN:VEVENT
DTSTART;VALUE=DATE:20260722
SUMMARY:【楽天ブックス限定先着特典】プロジェクトセカイ COLORFUL LIVE 5th - Frontier -(通常盤)【Blu-ray】(ラバーキーホルダー＆ラゲッジタグ)
DESCRIPTION:プロジェクトセカイ 
UID:2100014759166@kyohatsu.lb-product.com
END:VEVENT
END:VCALENDAR
