BEGIN:VCALENDAR
VERSION:2.0
PRODID:-//kyohatsu//JP
CALSCALE:GREGORIAN
BEGIN:VEVENT
DTSTART;VALUE=DATE:20260626
SUMMARY:キミとアイドルプリキュア♪感謝祭（通常版）【Blu-ray】
DESCRIPTION:プリキュア キミとアイドルプリキュア♪感謝祭映像製作委員会\\,(株)マーベラス
UID:4535506020758@kyohatsu.lb-product.com
END:VEVENT
BEGIN:VEVENT
DTSTART;VALUE=DATE:20260626
SUMMARY:【楽天ブックス限定先着特典】キミとアイドルプリキュア♪感謝祭＜アクリルブロック＞付版【Blu-ray】(缶ミラー（5種セット）)
DESCRIPTION:プリキュア キミとアイドルプリキュア♪感謝祭映像製作委員会\\,(株)マーベラス
UID:2100014825618@kyohatsu.lb-product.com
END:VEVENT
BEGIN:VEVENT
DTSTART;VALUE=DATE:20260626
SUMMARY:【楽天ブックス限定先着特典】キミとアイドルプリキュア♪感謝祭（通常版）【Blu-ray】(缶ミラー（5種セット）)
DESCRIPTION:プリキュア キミとアイドルプリキュア♪感謝祭映像製作委員会\\,(株)マーベラス
UID:2100014825625@kyohatsu.lb-product.com
END:VEVENT
BEGIN:VEVENT
DTSTART;VALUE=DATE:20260626
SUMMARY:キミとアイドルプリキュア♪感謝祭＜アクリルブロック＞付版【Blu-ray】
DESCRIPTION:プリキュア キミとアイドルプリキュア♪感謝祭映像製作委員会\\,(株)マーベラス
UID:4535506020741@kyohatsu.lb-product.com
END:VEVENT
BEGIN:VEVENT
DTSTART;VALUE=DATE:20260626
SUMMARY:【楽天ブックス限定グッズ+楽天ブックス限定先着特典】キミとアイドルプリキュア♪感謝祭（通常版）【Blu-ray】(メタリアルグラフ+缶ミラー（5種セット）)
DESCRIPTION:プリキュア キミとアイドルプリキュア♪感謝祭映像製作委員会\\,(株)マーベラス
UID:2100014825601@kyohatsu.lb-product.com
END:VEVENT
BEGIN:VEVENT
DTSTART;VALUE=DATE:20260626
SUMMARY:【楽天ブックス限定グッズ+楽天ブックス限定先着特典】キミとアイドルプリキュア♪感謝祭＜アクリルブロック＞付版【Blu-ray】(メタリアルグラフ+缶ミラー（5種セット）)
DESCRIPTION:プリキュア キミとアイドルプリキュア♪感謝祭映像製作委員会\\,(株)マーベラス
UID:2100014825595@kyohatsu.lb-product.com
END:VEVENT
END:VCALENDAR
