BEGIN:VCALENDAR
VERSION:2.0
PRODID:-//kyohatsu//JP
CALSCALE:GREGORIAN
BEGIN:VEVENT
DTSTART;VALUE=DATE:20260612
SUMMARY:ブッダ【アナログ盤】
DESCRIPTION:ブリンク182 Kung Fu Records
UID:4526180758860@kyohatsu.lb-product.com
END:VEVENT
END:VCALENDAR
