BEGIN:VCALENDAR
VERSION:2.0
PRODID:-//kyohatsu//JP
CALSCALE:GREGORIAN
BEGIN:VEVENT
DTSTART;VALUE=DATE:20260612
SUMMARY:サンズ・オブ・ジ・アバンダンド
DESCRIPTION:ブラッドハンター (株)ワードレコーズ
UID:4571614703688@kyohatsu.lb-product.com
END:VEVENT
END:VCALENDAR
