BEGIN:VCALENDAR
VERSION:2.0
PRODID:-//kyohatsu//JP
CALSCALE:GREGORIAN
BEGIN:VEVENT
DTSTART;VALUE=DATE:20260527
SUMMARY:ブラック・マーダー
DESCRIPTION:ブラック・マーダー ヴィヴィド・サウンド
UID:4540399326344@kyohatsu.lb-product.com
END:VEVENT
END:VCALENDAR
