BEGIN:VCALENDAR
VERSION:2.0
PRODID:-//kyohatsu//JP
CALSCALE:GREGORIAN
BEGIN:VEVENT
DTSTART;VALUE=DATE:20260710
SUMMARY:【輸入盤】ブッチャード・アット・バース（レッド・アンド・ブラック・スモーク）（アナログ盤）
DESCRIPTION:ブッチャード・アット・バース（レッド・アンド・ブラック・スモーク） 
UID:0039841616019@kyohatsu.lb-product.com
END:VEVENT
END:VCALENDAR
