BEGIN:VCALENDAR
VERSION:2.0
PRODID:-//kyohatsu//JP
CALSCALE:GREGORIAN
BEGIN:VEVENT
DTSTART;VALUE=DATE:20260930
SUMMARY:【楽天ブックス限定先着特典】ゾンビランドサガLIVE〜フランシュシュ ゆめぎんがフェスティバル〜【Blu-ray】(アクリルコースター)
DESCRIPTION:フランシュシュ エイベックス・ピクチャーズ(株)
UID:2100014909332@kyohatsu.lb-product.com
END:VEVENT
END:VCALENDAR
