BEGIN:VCALENDAR
VERSION:2.0
PRODID:-//kyohatsu//JP
CALSCALE:GREGORIAN
BEGIN:VEVENT
DTSTART;VALUE=DATE:20260610
SUMMARY:リアルター（1）
DESCRIPTION:フクダ地蔵 講談社
UID:9784065436707@kyohatsu.lb-product.com
END:VEVENT
END:VCALENDAR
