BEGIN:VCALENDAR
VERSION:2.0
PRODID:-//kyohatsu//JP
CALSCALE:GREGORIAN
BEGIN:VEVENT
DTSTART;VALUE=DATE:20260624
SUMMARY:【楽天ブックス限定先着特典】ホラークイーン (初回限定： Blu-ray盤)(A4クリアファイル)
DESCRIPTION:ファントムシータ 
UID:2100014957784@kyohatsu.lb-product.com
END:VEVENT
BEGIN:VEVENT
DTSTART;VALUE=DATE:20260624
SUMMARY:【楽天ブックス限定先着特典】ホラークイーン (初回限定：Photobook盤)(A4クリアファイル)
DESCRIPTION:ファントムシータ ユニバーサルミュージック
UID:4988031869260@kyohatsu.lb-product.com
END:VEVENT
BEGIN:VEVENT
DTSTART;VALUE=DATE:20260624
SUMMARY:ホラークイーン (初回限定： Blu-ray盤)
DESCRIPTION:ファントムシータ ユニバーサルミュージック
UID:4988031869253@kyohatsu.lb-product.com
END:VEVENT
BEGIN:VEVENT
DTSTART;VALUE=DATE:20260624
SUMMARY:【楽天ブックス限定先着特典】ホラークイーン (通常盤・初回プレス)(A4クリアファイル)
DESCRIPTION:ファントムシータ ユニバーサルミュージック
UID:4988031880951@kyohatsu.lb-product.com
END:VEVENT
END:VCALENDAR
